 BEGIN:VCALENDAR
VERSION:2.0
PRODID:-//Plieninė iltis - šunų dresiravimo mokykla - ECPv6.15.20//NONSGML v1.0//EN
CALSCALE:GREGORIAN
METHOD:PUBLISH
X-WR-CALNAME:Plieninė iltis - šunų dresiravimo mokykla
X-ORIGINAL-URL:https://sunu-dresiravimas.lt
X-WR-CALDESC:Plieninė iltis - šunų dresiravimo mokykla renginiai
REFRESH-INTERVAL;VALUE=DURATION:PT1H
X-Robots-Tag:noindex
X-PUBLISHED-TTL:PT1H
BEGIN:VTIMEZONE
TZID:UTC
BEGIN:STANDARD
TZOFFSETFROM:+0000
TZOFFSETTO:+0000
TZNAME:UTC
DTSTART:20230101T000000
END:STANDARD
END:VTIMEZONE
BEGIN:VEVENT
DTSTART;VALUE=DATE:20240629
DTEND;VALUE=DATE:20240701
DTSTAMP:20260419T205836
CREATED:20240405T105052Z
LAST-MODIFIED:20240405T105052Z
UID:3439-1719619200-1719791999@sunu-dresiravimas.lt
SUMMARY:Yulian Hatala 3.0
DESCRIPTION:Artėja neeilinis renginys! Jau birželio 29-30 dienomis „Plieninėje iltis“ aikštelėje vyks 3.0 apsaugos workshop kartu su Yulian Hatala. Nepaleiskite progos dalyvauti! Tai puiki galimybė gilinti žinias ir tobulinti įgūdžius. Nepraleiskite šanso prisijungti prie mūsų ir padaryti pažangą savo šuns dresūros kelionėje. Laukiame jūsų!\nSo we will have 3.0 protection workshop at Plieninė iltis on June 29-30 with Yulian Hatala. Dont miss out!
URL:https://sunu-dresiravimas.lt/event/yulian-hatala-3-0/
LOCATION:Plieninė iltis dresiravimo aikštelė
ATTACH;FMTTYPE=image/jpeg:https://sunu-dresiravimas.lt/wp-content/uploads/2024/04/432305087_946537144143136_6716891033771300689_n.jpg
ORGANIZER;CN="Plienin%C4%97 iltis":MAILTO:plienineiltis@gmail.com
END:VEVENT
BEGIN:VEVENT
DTSTART;VALUE=DATE:20240420
DTEND;VALUE=DATE:20240422
DTSTAMP:20260419T205836
CREATED:20240108T180532Z
LAST-MODIFIED:20240307T070113Z
UID:3379-1713571200-1713743999@sunu-dresiravimas.lt
SUMMARY:Pėdsekytės Seminaras Su LARS LENTZ
DESCRIPTION:Prisijunkite prie elito pėdsakų seminaro su pasaulinio garso treneriu Larsu Lentzu\nPlieninė Iltis džiaugiasi galėdama paskelbti išskirtinę galimybę šunų entuziastams ir treneriams! Gilinkite savo žinias į šunų pėdsakų meną su Larsu Lentzu\, pasaulinio lygio pėdsakų expertu\, žinomu dėl savo nepakartojamų įgūdžių ir dinaminio mokymo metodo. \nKodėl Lars Lentz?\nPėdsakų meistras: Atraskite technikas\, kurios padarė Lars Lentz legenda šunų pėdsakų pasaulyje.\nĮtraukiantis Mokymo Stilius: Pasinaudokite jo unikaliu gebėjimu aiškiai ir prieinamai paaiškinti sudėtingas koncepcijas.\nTransformuojantis Mokymas: Patirkite seminarą\, kuris ne tik informuoja\, bet ir iš tikrųjų transformuoja jus ir jūsų šunį. \nSeminaro Akcentai:\nIšsamios pėdsakų Sesijos: Nuo pagrindų iki pažangių sekimo strategijų.\nPraktinis Mokymas: Gaukite realaus laiko vadovavimą\, treniruodamiesi įvairiose vietovėse.\nInteraktyvūs Klausimai ir Atsakymai: Turėkite galimybę gauti atsakymus į savo specifinius pėdsakų klausimus iš paties Lars.\nBendravimo Galimybė: Susipažinkite su kitais pėdsakų entuziastais ir profesionalais. \nData ir Vieta:\nPrisijunkite prie mūsų šiame išskirtiniame renginyje Kaune\, kurį organizuoja Plieninė Iltis. Įsiminkite šią datą ir laukite daugiau informacijos! \nRibotas Vietų Skaičius!\nTai reta galimybė mokytis iš vieno geriausių šioje srityje. Užsirezervuokite savo vietą dabar ir pakelkite savo sekimo įgūdžius į nepaprastus aukštumas. Maksimalus dalyvių su šunimis skaičius yra 12. \nRegistruokitės Jau Šiandien:\nKlausytojų registracija seminarui Lars Lentz! \nPakelkite Savo Pėdsakų Sekimo Įgūdžius su Lars Lentz ir Plieninė iltis! \nIGP sporto Pėdsekytės seminaras\n_____________________________ \nPlieninė iltis is pleased to announce an exclusive opportunity for dog enthusiasts and trainers! Deepen your knowledge of the art of dog tracking with Lars Lentz\, a world-class tracking expert known for his unique skills and dynamic training method. \n🌟 Why Lars Lentz? \nTrack Master: Discover the techniques that made Lars Lentz a legend in the world of dog tracking.\nEngaging Teaching Style: Take advantage of his unique ability to explain complex concepts in a clear and accessible manner.\nTransformative Training: Experience a workshop that not only informs\, but truly transforms you and your dog. \nSeminar Highlights: \nComprehensive Tracking Sessions: From the basics to advanced tracking strategies.\nHands-on Training: Get real-time guidance while training in a variety of terrains.\nInteractive Q&A: Get answers to your specific trail questions from Lars himself.\nNetworking Opportunity: Meet other trail enthusiasts and professionals. \n📅 Date and Place:\nJoin us at this exclusive event in Kaunas\, organized by Plieninė Iltis. Remember this date and wait for more information! \n🔥 Limited Number of Places!\nThis is a rare opportunity to learn from one of the best in the field. Reserve your spot now and take your tracking skills to extraordinary heights. The maximum number of participants with dogs is 12. \n💻 Register Today:\nRegistration for listeners Lars Lentz! \nDon’t miss the chance to learn from the master himself – Lars Lentz! \n🐕 Level Up Your Track Tracking Skills with Lars Lentz and Plieninė iltis!
URL:https://sunu-dresiravimas.lt/event/pedsekytes-seminaras-su-lars-lentz/
LOCATION:Plieninė iltis dresiravimo aikštelė
CATEGORIES:Seminaras
ATTACH;FMTTYPE=image/jpeg:https://sunu-dresiravimas.lt/wp-content/uploads/2023/11/IMG_3450-scaled.jpeg
ORGANIZER;CN="Plienin%C4%97 iltis":MAILTO:plienineiltis@gmail.com
END:VEVENT
END:VCALENDAR